BEGIN:VCALENDAR
VERSION:2.0
PRODID:-//Fórum Luísa Todi - ECPv4.6.9//NONSGML v1.0//EN
CALSCALE:GREGORIAN
METHOD:PUBLISH
X-WR-CALNAME:Fórum Luísa Todi
X-ORIGINAL-URL:https://www.forumluisatodi.pt
X-WR-CALDESC:Events for Fórum Luísa Todi
BEGIN:VEVENT
DTSTART;TZID=Europe/Lisbon:20240509T150000
DTEND;TZID=Europe/Lisbon:20240509T163000
DTSTAMP:20260420T000314
CREATED:20240404T153706Z
LAST-MODIFIED:20240405T145140Z
UID:74788-1715266800-1715272200@www.forumluisatodi.pt
SUMMARY:Concerto pedagógico
DESCRIPTION:Espetáculo do 12.º Festival Internacional de Música de Setúbal\, com a participação do Conservatório Regional de Setúbal\, dirigido a todas as escolas do 1.º e 2.º ciclos do ensino básico do concelho\, mediante inscrição em a7m.eventosfms@gmail.com \n“Ecos de Liberdade” dá tema à edição 2024 do Festival Internacional de Música de Setúbal\, organizado pela A7M – Associação Festival de Música de Setúbal com a Câmara Municipal de Setúbal e o The Helen Hamlyn Trust. \n
URL:https://www.forumluisatodi.pt/espetaculo/concerto-pedagogico/
CATEGORIES:Música
ATTACH;FMTTYPE=image/jpeg:https://www.forumluisatodi.pt/wp-content/uploads/2024/04/Concerto_Pedagogico.jpg
END:VEVENT
END:VCALENDAR