BEGIN:VCALENDAR
VERSION:2.0
PRODID:-//Fórum Luísa Todi - ECPv4.6.9//NONSGML v1.0//EN
CALSCALE:GREGORIAN
METHOD:PUBLISH
X-WR-CALNAME:Fórum Luísa Todi
X-ORIGINAL-URL:https://www.forumluisatodi.pt
X-WR-CALDESC:Events for Fórum Luísa Todi
BEGIN:VEVENT
DTSTART;TZID=Europe/Lisbon:20220409T110000
DTEND;TZID=Europe/Lisbon:20220409T123000
DTSTAMP:20260424T145316
CREATED:20220308T115936Z
LAST-MODIFIED:20220308T115936Z
UID:72452-1649502000-1649507400@www.forumluisatodi.pt
SUMMARY:Concerto para pais e filhos
DESCRIPTION:Os professores do Conservatório Regional de Setúbal oferecem um concerto didático destinado à família\, onde\, através da obra “Histórias de Cantar”\, da escritora Margarida Fonseca Santos\, é contada uma história através de vídeo e áudio\, assim como apresentados vários instrumentos musicais ao vivo. \nUm concerto para pais e filhos\, onde as crianças são chamadas a interagir\, despertando assim os mais novos para a cultura.   \n
URL:https://www.forumluisatodi.pt/espetaculo/concerto-para-pais-e-filhos/
CATEGORIES:Crianças
ATTACH;FMTTYPE=image/jpeg:https://www.forumluisatodi.pt/wp-content/uploads/2022/03/ConcertoPaisFilhos.jpg
END:VEVENT
END:VCALENDAR