BEGIN:VCALENDAR
VERSION:2.0
PRODID:-//Fórum Luísa Todi - ECPv4.6.9//NONSGML v1.0//EN
CALSCALE:GREGORIAN
METHOD:PUBLISH
X-WR-CALNAME:Fórum Luísa Todi
X-ORIGINAL-URL:https://www.forumluisatodi.pt
X-WR-CALDESC:Events for Fórum Luísa Todi
BEGIN:VEVENT
DTSTART;TZID=Europe/Lisbon:20220402T170000
DTEND;TZID=Europe/Lisbon:20220402T180000
DTSTAMP:20260424T071835
CREATED:20220302T141037Z
LAST-MODIFIED:20220331T120559Z
UID:72420-1648918800-1648922400@www.forumluisatodi.pt
SUMMARY:Concerto de Páscoa
DESCRIPTION:Informação \nO espetáculo foi cancelado por motivos alheios à organização do Fórum Municipal Luís Todi. \nA devolução do valor dos bilhetes realiza-se nos mesmo locais ou plataforma onde foram adquiridos. \nMais informações através do número 265 522 127 ou do endereço fmlt@mun-setubal.pt. \n—————————————————————————————————————– \nOs jovens alunos da Escola Profissional da Metropolitana e o maestro Reinaldo Guerreiro têm o mérito de diluir os fins pedagógicos numa qualidade artística notável. \nTrazem-nos agora a música de três figuras incontornáveis no repertório de qualquer orquestra. \nDe Mozart\, a abertura da ópera A Flauta Mágica\, uma breve evocação das provações que o príncipe Tamino enfrenta para resgatar a sua amada. \nDe Beethoven\, a célebre sinfonia estreada em 1813 num concerto de beneficência em favor dos combatentes austríacos que defrontaram as tropas de Napoleão Bonaparte. É uma partitura esfuziante\, muito embora os compassos dolentes do andamento lento sejam os mais conhecidos. \nPelo meio\, o jovem violinista Nuno Rodrigues\, o mais recente galardoado do Prémio EPM/INATEL\, interpreta a exuberante Introdução e Rondó Caprichoso de Saint-Saëns\, dez minutos de música que ilustra dois selos do romantismo musical: o culto do exótico e o virtuosismo. \n
URL:https://www.forumluisatodi.pt/espetaculo/concerto-de-pascoa/
CATEGORIES:Música
ATTACH;FMTTYPE=image/jpeg:https://www.forumluisatodi.pt/wp-content/uploads/2022/03/ConcertoPascoa-cancelado.jpg
END:VEVENT
END:VCALENDAR