BEGIN:VCALENDAR
VERSION:2.0
PRODID:-//Fórum Luísa Todi - ECPv4.6.9//NONSGML v1.0//EN
CALSCALE:GREGORIAN
METHOD:PUBLISH
X-WR-CALNAME:Fórum Luísa Todi
X-ORIGINAL-URL:https://www.forumluisatodi.pt
X-WR-CALDESC:Events for Fórum Luísa Todi
BEGIN:VEVENT
DTSTART;VALUE=DATE:20241201
DTEND;VALUE=DATE:20241202
DTSTAMP:20260420T013808
CREATED:20241106T141624Z
LAST-MODIFIED:20241106T141624Z
UID:77336-1733011200-1733097599@www.forumluisatodi.pt
SUMMARY:Concerto de Natal
DESCRIPTION:  \nO Conservatório Regional de Setúbal apresenta o tradicional Concerto de Natal\, celebrando esta quadra festiva com a comunidade educativa de Setúbal e público em geral.  \nSão representadas em duas sessões as várias classes que compõem a atividade pedagógica e artística desta escola. \n
URL:https://www.forumluisatodi.pt/espetaculo/concerto-de-natal-6/
CATEGORIES:Música
ATTACH;FMTTYPE=image/jpeg:https://www.forumluisatodi.pt/wp-content/uploads/2024/11/ConcertoNatal-ConservatorioRegional.jpg
END:VEVENT
END:VCALENDAR