BEGIN:VCALENDAR
VERSION:2.0
PRODID:-//Fórum Luísa Todi - ECPv4.6.9//NONSGML v1.0//EN
CALSCALE:GREGORIAN
METHOD:PUBLISH
X-WR-CALNAME:Fórum Luísa Todi
X-ORIGINAL-URL:https://www.forumluisatodi.pt
X-WR-CALDESC:Events for Fórum Luísa Todi
BEGIN:VEVENT
DTSTART;TZID=Europe/Lisbon:20211217T210000
DTEND;TZID=Europe/Lisbon:20211217T223000
DTSTAMP:20260419T194616
CREATED:20211104T152234Z
LAST-MODIFIED:20211130T152200Z
UID:71954-1639774800-1639780200@www.forumluisatodi.pt
SUMMARY:Cem Anos do Nascimento de Alfred Reed (1921-2005)
DESCRIPTION:Programa da Orquestra de Sopros Metropolitana que celebra o centésimo aniversário do nascimento do compositor e maestro norte-americano Alfred Reed\, reunindo obras que evidenciam algumas das suas principais referências\, tais como Brahms\, Rimsky-Korsakov\, Bartók\, Dvořák e músicas de tradição popular. \n“El Camino Real” baseia-se em séries de progressões harmónicas que são bem conhecidas dos guitarristas de flamenco. A primeira secção é uma dança chamada Jota\, ao passo que a segunda deriva do Fandango. \nPor sua vez\, as “Canções de Natal Russas” integram melodias litúrgicas\, cânticos de Natal e temas originais compostos no espírito da quadra. \nA música instrumental não é admitida nos ritos da Igreja Ortodoxa\, pelo que a voz assume total protagonismo. Assim\, cada nota que se ouve nesta obra\, cada ritmo\, cada inflexão melódica\, harmónica ou rítmica\, independentemente da textura ou do tempo\, tudo se molda nas entoações vocais. \nPor fim\, juntam-se aqui duas suítes de danças\, género intrinsecamente ligado à evolução histórica da música instrumental. São\, neste caso\, baseadas em canções tradicionais arménias\, recolhidas por Gomidas Vartabed (1869-1935)\, fundador da Música Clássica Arménia. \n
URL:https://www.forumluisatodi.pt/espetaculo/concerto-de-natal-3/
CATEGORIES:Música
ATTACH;FMTTYPE=image/jpeg:https://www.forumluisatodi.pt/wp-content/uploads/2021/11/Reinaldo-Guerreiro.jpg
END:VEVENT
END:VCALENDAR