BEGIN:VCALENDAR
VERSION:2.0
PRODID:-//Fórum Luísa Todi - ECPv4.6.9//NONSGML v1.0//EN
CALSCALE:GREGORIAN
METHOD:PUBLISH
X-WR-CALNAME:Fórum Luísa Todi
X-ORIGINAL-URL:https://www.forumluisatodi.pt
X-WR-CALDESC:Events for Fórum Luísa Todi
BEGIN:VEVENT
DTSTART;TZID=Europe/Lisbon:20190426T213000
DTEND;TZID=Europe/Lisbon:20190426T214000
DTSTAMP:20260421T160737
CREATED:20190301T171755Z
LAST-MODIFIED:20190301T171937Z
UID:68605-1556314200-1556314800@www.forumluisatodi.pt
SUMMARY:COMTRADIÇÕES
DESCRIPTION:Samuel Úria e Lavoisier atuam em concerto do ciclo ComTradições e no âmbito do programa comemorativo dos 45 anos do 25 de Abril. \nSamuel Úria leva para os palcos o blues do delta do Dão. Com uma proveniência marcada pelo punk\, pelo rock’n’roll e pela estética low-fi\, Úria tem ganho notoriedade desde 2008\, altura em que se deu a conhecer com edições caseiras e concertos em que apenas se acompanhava pela guitarra acústica. \nLavoisier\, projeto formado por Roberto Afonso e Patrícia Relvas\, nasce com a necessidade interior de criar um diálogo\, onde a expressão musical é elevada ao seu expoente mais sensível. \nA aproximação à música tradicional portuguesa inspira-se no trabalho de recolha musical realizado por Michel Giacometti e Fernando Lopes-Graça. \n
URL:https://www.forumluisatodi.pt/espetaculo/comtradicoes/
CATEGORIES:Música
ATTACH;FMTTYPE=image/jpeg:https://www.forumluisatodi.pt/wp-content/uploads/2019/03/Samuel_Uria_site.jpg
END:VEVENT
END:VCALENDAR