BEGIN:VCALENDAR
VERSION:2.0
PRODID:-//Fórum Luísa Todi - ECPv4.6.9//NONSGML v1.0//EN
CALSCALE:GREGORIAN
METHOD:PUBLISH
X-WR-CALNAME:Fórum Luísa Todi
X-ORIGINAL-URL:https://www.forumluisatodi.pt
X-WR-CALDESC:Events for Fórum Luísa Todi
BEGIN:VEVENT
DTSTART;TZID=Europe/Lisbon:20240401T210000
DTEND;TZID=Europe/Lisbon:20240401T220000
DTSTAMP:20260419T223013
CREATED:20231211T122209Z
LAST-MODIFIED:20240327T114816Z
UID:74483-1712005200-1712008800@www.forumluisatodi.pt
SUMMARY:Coisa Ruim
DESCRIPTION:Xavier Oliveira Monteiro é um botânico investigador e professor universitário. Reside com a mulher\, filhos e um neto bebé num apartamento no centro de Lisboa. \nCerto dia\, Xavier recebe a notícia do falecimento de um tio\, proprietário de um solar de família numa aldeia do município de Seia. Por ser o único herdeiro legítimo\, torna-se dono desse imóvel. \nAo desejar publicar um estudo sobre a flora da Beira Interior\, decide mudar-se juntamente com a família para o solar. \nNa aldeia trava amizade com os locais\, que percebe serem muito supersticiosos e crentes em assuntos relativos ao oculto. \nA princípio\, Xavier tenta abstrair-se desse tipo de pensamentos\, mas eventos estranhos e sem explicação lógica começam a acontecer\, correspondendo a algumas das crenças locais. \nPor essa razão\, Xavier decide ir atrás das crenças rurais para encontrar alguma explicação para o que está a suceder. \nÉ aí que Vicente\, um antigo padre da aldeia\, lhe revela algo tenebroso e macabro que ocorreu no passado\, dando origem a uma terrível maldição que assola a aldeia e que tem relação direta com a família de Xavier. \n
URL:https://www.forumluisatodi.pt/espetaculo/coisa-ruim/
CATEGORIES:Cinema
ATTACH;FMTTYPE=image/jpeg:https://www.forumluisatodi.pt/wp-content/uploads/2023/12/CoisaRuim.jpg
END:VEVENT
END:VCALENDAR