BEGIN:VCALENDAR
VERSION:2.0
PRODID:-//Fórum Luísa Todi - ECPv4.6.9//NONSGML v1.0//EN
CALSCALE:GREGORIAN
METHOD:PUBLISH
X-WR-CALNAME:Fórum Luísa Todi
X-ORIGINAL-URL:https://www.forumluisatodi.pt
X-WR-CALDESC:Events for Fórum Luísa Todi
BEGIN:VEVENT
DTSTART;TZID=Europe/Lisbon:20260607T190000
DTEND;TZID=Europe/Lisbon:20260607T200000
DTSTAMP:20260423T082612
CREATED:20260302T105515Z
LAST-MODIFIED:20260317T163208Z
UID:79147-1780858800-1780862400@www.forumluisatodi.pt
SUMMARY:Cian Nugent
DESCRIPTION: \n\n\n\n\n\n\n\n\nCian Nugent é um guitarrista\, cantor\, compositor e produtor irlandês\, natural de Dublin\, amplamente considerado uma das vozes mais distintas da música independente irlandesa contemporânea. \nDestacou-se no final dos anos 2000 pelas suas composições instrumentais complexas para guitarra\, frequentemente comparadas às de guitarristas primitivos americanos como John Fahey. \nAo longo do tempo\, o seu som evoluiu para um estilo mais abrangente\, que mistura folk\, rock clássico\, psicadelismo e texturas experimentais. \n\n\n\n\n\n\n\n\n\n\n\n\n\n \n
URL:https://www.forumluisatodi.pt/espetaculo/cian-nugent/
CATEGORIES:Música
ATTACH;FMTTYPE=image/jpeg:https://www.forumluisatodi.pt/wp-content/uploads/2026/03/guitarras2.jpg
END:VEVENT
END:VCALENDAR