BEGIN:VCALENDAR
VERSION:2.0
PRODID:-//Fórum Luísa Todi - ECPv4.6.9//NONSGML v1.0//EN
CALSCALE:GREGORIAN
METHOD:PUBLISH
X-WR-CALNAME:Fórum Luísa Todi
X-ORIGINAL-URL:https://www.forumluisatodi.pt
X-WR-CALDESC:Events for Fórum Luísa Todi
BEGIN:VEVENT
DTSTART;TZID=Europe/Lisbon:20220717T213000
DTEND;TZID=Europe/Lisbon:20220717T220000
DTSTAMP:20260425T151650
CREATED:20220407T110711Z
LAST-MODIFIED:20220429T105007Z
UID:72603-1658093400-1658095200@www.forumluisatodi.pt
SUMMARY:Chovem Amores na Rua do Matador
DESCRIPTION:Baltazar Fortuna está zangado. \nCom os homens\, com a vida\, com Deus e consigo mesmo. \nFortuna\, só lhe coube a do nome. \nE\, sobretudo\, está zangado com as mulheres. Com as três mulheres da sua vida. \nPor isso volta a Xigovia – a pequena vila no sul de Moçambique\, onde elas vivem – com um objetivo claro: matar. \nSim\, matar. \nMatar o azar\, varrer a má-fortuna e emendar a vida que escolheu viver\, mas já não deseja. \nNo processo\, há que matar as mulheres também. São elas as culpadas\, disso não duvida. \nEle\, que sempre teve medo das palavras\, quer redimir-se nos atos. \nO único obstáculo? Elas não querem colaborar\, não lhes apetece morrer. \nTêm ideias próprias. \nEsse\, sabe ele bem\, é o problema do Mundo: andarem a meter ideias na cabeça das mulheres. \nLogo nelas\, diz Fortuna\, que “Desde Eva que andam em contramão”. \nA morte vai andar por Xigovia\, isso é certo. \n  \nMia Couto e José Eduardo Agualusa refletem neste conto – adaptado ao palco com dramaturgia do próprio Mia Couto – sobre o conflito entre um Moçambique periurbano\, que hesita entre um lastro de tradições e práticas ancestrais cristalizadas nas mentalidades masculinas dominantes; e um novo país\, de demografia galopante\, prenhe de jovens que\, a cada dia\, se revêm menos nas estruturas culturais herdadas e nas práticas sociais que elas impõem. \nO conflito entre Baltazar Fortuna e as suas mulheres – Mariana Chubichuba\, Judite Malimali e Ermelinda Feitinha – leva\, inevitavelmente\, à morte de um desequilíbrio social onde o lugar que cabe às mulheres e o dos homens é vigorosamente questionado e resolvido em cada opção\, em cada atitude\, em cada gesto do presente. \n
URL:https://www.forumluisatodi.pt/espetaculo/chovem-amores-na-rua-do-matador/
CATEGORIES:Teatro
ATTACH;FMTTYPE=image/jpeg:https://www.forumluisatodi.pt/wp-content/uploads/2022/04/ChovemRuaMatador.jpg
END:VEVENT
END:VCALENDAR