BEGIN:VCALENDAR
VERSION:2.0
PRODID:-//Fórum Luísa Todi - ECPv4.6.9//NONSGML v1.0//EN
CALSCALE:GREGORIAN
METHOD:PUBLISH
X-WR-CALNAME:Fórum Luísa Todi
X-ORIGINAL-URL:https://www.forumluisatodi.pt
X-WR-CALDESC:Events for Fórum Luísa Todi
BEGIN:VEVENT
DTSTART;TZID=Europe/Lisbon:20210905T170000
DTEND;TZID=Europe/Lisbon:20210905T183000
DTSTAMP:20260422T161928
CREATED:20201215T175531Z
LAST-MODIFIED:20210513T154212Z
UID:71347-1630861200-1630866600@www.forumluisatodi.pt
SUMMARY:Catarina e a Beleza de Matar Fascistas
DESCRIPTION:Esta família mata fascistas. É uma tradição com mais de 70 anos que cada membro da família sempre seguiu. Hoje\, reúnem-se numa casa no campo\, no sul de Portugal\, perto da aldeia de Baleizão. Uma das mais jovens da família\, Catarina\, vai matar o seu primeiro fascista\, raptado de propósito para o efeito. \nÉ um dia de festa\, de beleza e de morte. No entanto\, Catarina é incapaz de matar ou recusa-se a fazê-lo. Estala o conflito familiar\, acompanhado de várias questões: O que é um fascista? Há lugar para a violência na luta por um mundo melhor? Podemos violar as regras da democracia para melhor a defender? \nEntretanto\, surge\, por vezes\, o fantasma de uma outra Catarina\, a ceifeira Catarina Eufémia que foi assassinada em 1954\, em Baleizão\, durante a ditadura fascista. Catarina Eufémia aparece durante a noite\, enquanto a família dorme\, para conversar com o fascista de 2028 que aguarda o seu destino. \n  \nCovid-19 | Plano de Contingência do Fórum Municipal Luísa Todi \n  \n
URL:https://www.forumluisatodi.pt/espetaculo/catarina-e-a-beleza-de-matar-fascistas/2021-09-05/
CATEGORIES:Teatro
ATTACH;FMTTYPE=image/jpeg:https://www.forumluisatodi.pt/wp-content/uploads/2020/12/CatarinaBelezaMatarFacistas.jpg
END:VEVENT
END:VCALENDAR