BEGIN:VCALENDAR
VERSION:2.0
PRODID:-//Fórum Luísa Todi - ECPv4.6.9//NONSGML v1.0//EN
CALSCALE:GREGORIAN
METHOD:PUBLISH
X-WR-CALNAME:Fórum Luísa Todi
X-ORIGINAL-URL:https://www.forumluisatodi.pt
X-WR-CALDESC:Events for Fórum Luísa Todi
BEGIN:VEVENT
DTSTART;TZID=Europe/Lisbon:20240318T210000
DTEND;TZID=Europe/Lisbon:20240318T230000
DTSTAMP:20260420T001017
CREATED:20231211T115608Z
LAST-MODIFIED:20240313T090405Z
UID:74471-1710795600-1710802800@www.forumluisatodi.pt
SUMMARY:Capitães de Abril
DESCRIPTION:Em Portugal\, na noite de 24 para 25 de abril de 1974\, uma canção desencadeia um golpe de Estado militar que irá mudar a face do país e o destino de territórios gigantescos em África. \nAo som da voz do poeta José Afonso\, as tropas revoltosas tomam os quartéis. \nÀs três horas da manhã avançam sobre Lisboa. \nAlguns meses depois do triste “putsch” militar no Chile\, a Revolução Portuguesa distingue-se pelo seu caráter aventuroso\, pacífico e lírico. \n
URL:https://www.forumluisatodi.pt/espetaculo/capitaes-de-abril/
CATEGORIES:Cinema
ATTACH;FMTTYPE=image/png:https://www.forumluisatodi.pt/wp-content/uploads/2023/12/CapitaesAbril.png
END:VEVENT
END:VCALENDAR