BEGIN:VCALENDAR
VERSION:2.0
PRODID:-//Fórum Luísa Todi - ECPv4.6.9//NONSGML v1.0//EN
CALSCALE:GREGORIAN
METHOD:PUBLISH
X-WR-CALNAME:Fórum Luísa Todi
X-ORIGINAL-URL:https://www.forumluisatodi.pt
X-WR-CALDESC:Events for Fórum Luísa Todi
BEGIN:VEVENT
DTSTART;TZID=Europe/Lisbon:20230519T210000
DTEND;TZID=Europe/Lisbon:20230519T230000
DTSTAMP:20260424T170932
CREATED:20230411T144359Z
LAST-MODIFIED:20230518T133935Z
UID:73936-1684530000-1684537200@www.forumluisatodi.pt
SUMMARY:Camané
DESCRIPTION:O Festival Internacional de Música de Setúbal apresenta Camané\, acompanhado em alguns dos seus temas pelo Coro Feminino TuttiEncantus. \nA voz de Camané enriqueceu-se\, aperfeiçoou-se\, tornou-se mais solta\, mas também mais funda. \nSe o norte da sua arte continua a ser “entregar as palavras”\, como sempre gostou de dizer – a maneira como a voz transporta e comunica a emoção que se esconde por trás de um poema – Camané entrega hoje as palavras como nunca o fez antes. E que palavras! Amália Rodrigues; Amélia Muge; Maria do Rosário Pedreira; Teresa Muge; David Mourão-Ferreira; Fernando Pessoa; João Monge; Jorge Palma; Júlio Dinis; Pedro Abrunhosa; Sérgio Godinho; Vitorino Salomé. São apenas alguns dos autores cujas palavras Camané entrega em Horas Vazias. \n
URL:https://www.forumluisatodi.pt/espetaculo/camane/
CATEGORIES:Música
ATTACH;FMTTYPE=image/jpeg:https://www.forumluisatodi.pt/wp-content/uploads/2023/04/Camane_b.jpg
END:VEVENT
END:VCALENDAR