BEGIN:VCALENDAR
VERSION:2.0
PRODID:-//Fórum Luísa Todi - ECPv4.6.9//NONSGML v1.0//EN
CALSCALE:GREGORIAN
METHOD:PUBLISH
X-WR-CALNAME:Fórum Luísa Todi
X-ORIGINAL-URL:https://www.forumluisatodi.pt
X-WR-CALDESC:Events for Fórum Luísa Todi
BEGIN:VEVENT
DTSTART;TZID=Europe/Lisbon:20241028T210000
DTEND;TZID=Europe/Lisbon:20241028T230000
DTSTAMP:20260420T013811
CREATED:20240923T111521Z
LAST-MODIFIED:20241024T083010Z
UID:77081-1730149200-1730156400@www.forumluisatodi.pt
SUMMARY:Blade Runner – Perigo Iminente
DESCRIPTION:Um ex-agente da polícia é encarregue de uma investigação em Los Angeles\, no século XXI\, sobre um grupo de andróides que se dirige para a Terra \nApesar de se ter tornado num dos casos mais célebres de filmes de culto\, “Blade Runner – Perigo Iminente” não teve grande aceitação por parte da crítica\, sendo apenas nomeado para dois Óscares: melhor direcção artística (Linda DeScenna\, Lawrence G. Paull e David L. Snyder) e melhores efeitos visuais (David Dryer\, Douglas Trumbull e Richard Yuricich). \nO filme faz parte da masterclass de Lauro António “Cinema Americano\, anos 80”\, com mais de seis dezenas de filmes selecionados pelo antigo cineasta e crítico cinematográfico\, falecido em 2022. \n
URL:https://www.forumluisatodi.pt/espetaculo/blade-runner-perigo-iminente-2/
CATEGORIES:Cinema
ATTACH;FMTTYPE=image/jpeg:https://www.forumluisatodi.pt/wp-content/uploads/2024/09/BladeRunner.jpg
END:VEVENT
END:VCALENDAR