BEGIN:VCALENDAR
VERSION:2.0
PRODID:-//Fórum Luísa Todi - ECPv4.6.9//NONSGML v1.0//EN
CALSCALE:GREGORIAN
METHOD:PUBLISH
X-WR-CALNAME:Fórum Luísa Todi
X-ORIGINAL-URL:https://www.forumluisatodi.pt
X-WR-CALDESC:Events for Fórum Luísa Todi
BEGIN:VEVENT
DTSTART;TZID=Europe/Lisbon:20230702T213000
DTEND;TZID=Europe/Lisbon:20230702T223000
DTSTAMP:20260424T064922
CREATED:20230510T151306Z
LAST-MODIFIED:20230510T151306Z
UID:74008-1688333400-1688337000@www.forumluisatodi.pt
SUMMARY:Bia Ferreira
DESCRIPTION:Bia Ferreira sobe ao palco do Fórum Luísa Todi com a digressão do ábum “Faminta”\, um convite para um mergulho na palavra da igreja lesbiteriana\, proporcionada pelos embalos do rap e das suas mais variadas vertentes. \nArtista brasileira que nos últimos anos tem se consagrado com os seus trabalhos que envolvem referências musicais de Soul\, Reggae\, Blues\, Funk\, R&B e Gospel e suscitam para um momento de esclarecimento\, provacação e luta. Bia Ferreira é um dos nomes marcantes da nova geração de músicos brasileiros.  \nCom quase uma década de atuação e presença nos grandes circuitos musicais\, a artista ecoa para além do seu trabalho o respeito à comunidade LGBTQIA+\, ao racismo e à xenofobia. Como a própria artista define\, a sua música é “MMP – Música de Mulher Preta” e trata de temática sociais importantes. \nBárbara Eugênia \nA noite conta com a abertura da cantora\, compositora e produtora brasileira Bárbara Eugênia. \nNo seu currículo musical\, a artista possui o prémio Multishow de Música Brasileira pela versão de “Porque Brigamos” e uma das suas canções\, “Coração”\, na banda sonora da telenovela da Globo “Velho Chico”. \nO espetáculo de Bárbara Eugênia promete ser repleto de ritmos brasileiros\, rock\, folk\, música eletrónica e muita experimentação.  \n  \nProjeto Língua Terra \nO festival tem o intuito de promover o intercâmbio entre artistas de seis países unidos pela língua portuguesa e fomentar conexões culturais e criações artísticas colaborativas.  \nO Projeto Língua Terra tem como objetivo dar visibilidade à diversidade cultural\, fomentando eventos artísticos e a criação de pontes entre os países falantes de língua portuguesa. \nJá passaram pelo projeto artistas como Bonga Kwenda (Angola)\, Elida Almeida (Cabo Verde)\, Paulo Flores (Angola) e Simone Sou (Brasil)\, além de incluir peças de teatro de autores lusófonos de renome como Mia Couto e José Eduardo Agualusa. \n
URL:https://www.forumluisatodi.pt/espetaculo/bia-ferreira/
CATEGORIES:Música
ATTACH;FMTTYPE=image/jpeg:https://www.forumluisatodi.pt/wp-content/uploads/2023/05/BiaFerreira-b.jpg
END:VEVENT
END:VCALENDAR