BEGIN:VCALENDAR
VERSION:2.0
PRODID:-//Fórum Luísa Todi - ECPv4.6.9//NONSGML v1.0//EN
CALSCALE:GREGORIAN
METHOD:PUBLISH
X-WR-CALNAME:Fórum Luísa Todi
X-ORIGINAL-URL:https://www.forumluisatodi.pt
X-WR-CALDESC:Events for Fórum Luísa Todi
BEGIN:VEVENT
DTSTART;TZID=Europe/Lisbon:20230525T210000
DTEND;TZID=Europe/Lisbon:20230525T230000
DTSTAMP:20260424T124022
CREATED:20230411T151720Z
LAST-MODIFIED:20230518T134054Z
UID:73953-1685048400-1685055600@www.forumluisatodi.pt
SUMMARY:Bárbara Tinoco
DESCRIPTION:Festival Internacional de Música de Setúbal apresenta Bárbara Tinoco\, a tímida cantora com voz de menina\, que se tornou viral\, acompanhada em alguns dos seus temas pelo Coral Infantil de Setúbal. \nNascida em Lisboa\, em 1998\, é cantora e compositora\, autodidata na guitarra e no canto\, estudou Ciências Musicais na Faculdade Nova de Ciências Socias e Humanas. \nDeu que falar na sua muito breve passagem pela fase de casting do programa “The Voice Portugal”\, onde\, não tendo virado nenhuma das cadeiras dos mentores\, teve a oportunidade de mostrar um tema original\, “Antes Dela Dizer Que Sim”\, que rapidamente se tornou um sucesso. \nDesde então apresentou “Sei Lá”\, “A Fugir de Ser”\, “Outras Línguas” e lançou “Desalinhados”\, um EP de colaborações cujo single de avanço foi “Cidade”\, em dueto com Bárbara Bandeira. Em outubro de 2021\, editou “Bárbara\,”\, o seu primeiro álbum de originais.\n\nDepois da estreia nos Coliseus em novembro de 2021\, com salas esgotadas\, Bárbara Tinoco prepara-se agora para conquistar grandes salas nacionais e internacionais em 2023. \n
URL:https://www.forumluisatodi.pt/espetaculo/barbara-tinoco/
CATEGORIES:Música
ATTACH;FMTTYPE=image/jpeg:https://www.forumluisatodi.pt/wp-content/uploads/2023/04/BarbaraTinoco.jpg
END:VEVENT
END:VCALENDAR