BEGIN:VCALENDAR
VERSION:2.0
PRODID:-//Fórum Luísa Todi - ECPv4.6.9//NONSGML v1.0//EN
CALSCALE:GREGORIAN
METHOD:PUBLISH
X-WR-CALNAME:Fórum Luísa Todi
X-ORIGINAL-URL:https://www.forumluisatodi.pt
X-WR-CALDESC:Events for Fórum Luísa Todi
BEGIN:VEVENT
DTSTART;TZID=Europe/Lisbon:20190321T213000
DTEND;TZID=Europe/Lisbon:20190321T213000
DTSTAMP:20260423T012637
CREATED:20190122T170926Z
LAST-MODIFIED:20190222T165628Z
UID:68357-1553203800-1553203800@www.forumluisatodi.pt
SUMMARY:Auto da Índia
DESCRIPTION:A primeira farsa de Gil Vicente foi também uma das primeiras peças da Península Ibérica a apresentar uma intriga\, em vez de um monólogo representado por um ator\, como era uso nas cortes palacianas. \nO tema tem como pano de fundo os descobrimentos e as suas consequências sociais. \nFilipe Crawford encena assim “Auto da Índia”\, tentando ser fiel ao espírito do original\, pretendendo situar a peça na sua época e a representação no contexto do teatro das cortes no final da Idade Média\, inspirando-se até em “Decameron”\, de Pasolini\, a partir de Boccaccio. \nRealça-se a farsa\, e através de uma história cómica\, todas as personagens são criticadas e ridicularizadas. \n
URL:https://www.forumluisatodi.pt/espetaculo/auto-da-india/2019-03-21/
CATEGORIES:Teatro
ATTACH;FMTTYPE=image/jpeg:https://www.forumluisatodi.pt/wp-content/uploads/2019/01/AutoIndia-1.jpg
END:VEVENT
END:VCALENDAR