BEGIN:VCALENDAR
VERSION:2.0
PRODID:-//Fórum Luísa Todi - ECPv4.6.9//NONSGML v1.0//EN
CALSCALE:GREGORIAN
METHOD:PUBLISH
X-WR-CALNAME:Fórum Luísa Todi
X-ORIGINAL-URL:https://www.forumluisatodi.pt
X-WR-CALDESC:Events for Fórum Luísa Todi
BEGIN:VEVENT
DTSTART;TZID=Europe/Lisbon:20220212T220000
DTEND;TZID=Europe/Lisbon:20220212T233000
DTSTAMP:20260419T212204
CREATED:20211126T105733Z
LAST-MODIFIED:20220107T105255Z
UID:72043-1644703200-1644708600@www.forumluisatodi.pt
SUMMARY:Aurea
DESCRIPTION:Aurea é uma das artistas mais bem-sucedidas de uma nova geração de talentos no panorama musical português. Apaixonada e entusiasmada\, é assim que vive a sua vida e cada música. \nEm “Confessions”\, o quarto registo de originais de Aurea\, a cantora\, intérprete e também compositora\, quis registar em áudio algumas das histórias ou segredos que lhe foram confidenciando em vários momentos da sua vida.  \nEstas confissões\, materializadas agora em letras e em música\, umas de forma literal\, outras mais metafóricas\, serviram de inspiração e foram o ponto de partida para a criação deste álbum\, que contou mais uma vez com músico\, compositor\, companheiro de escrita e autor da maioria das letras de Aurea Rui Ribeiro. \n
URL:https://www.forumluisatodi.pt/espetaculo/aurea-2/
CATEGORIES:Música
ATTACH;FMTTYPE=image/jpeg:https://www.forumluisatodi.pt/wp-content/uploads/2021/11/aurea.jpg
END:VEVENT
END:VCALENDAR