BEGIN:VCALENDAR
VERSION:2.0
PRODID:-//Fórum Luísa Todi - ECPv4.6.9//NONSGML v1.0//EN
CALSCALE:GREGORIAN
METHOD:PUBLISH
X-WR-CALNAME:Fórum Luísa Todi
X-ORIGINAL-URL:https://www.forumluisatodi.pt
X-WR-CALDESC:Events for Fórum Luísa Todi
BEGIN:VEVENT
DTSTART;TZID=Europe/Lisbon:20230617T160000
DTEND;TZID=Europe/Lisbon:20230617T170000
DTSTAMP:20260424T013436
CREATED:20230612T090947Z
LAST-MODIFIED:20230612T090947Z
UID:74042-1687017600-1687021200@www.forumluisatodi.pt
SUMMARY:Aula pública
DESCRIPTION:Espetáculo para o público em geral em que participam todos os alunos da ADCS\, das Classes de Iniciação ao Movimento ao Curso de Formação de Bailarinos\, representativo do trabalho desenvolvido ao longo do ano letivo.\n\nA Academia de Dança Contemporânea de Setúbal (ADCS) é uma escola de ensino artístico vocacional\, patrocinada pelo Ministério da Educação e apoiada pela Câmara Municipal de Setúbal\, que funciona em regime articulado com as escolasbBásicas e secundárias do ensino público.\n\nO ensino na Academia tem como principais objetivos a educação pelo movimento\, que se desenvolve nas classes de Iniciação\, e a formação de bailarinos nos cursos Básico e Secundário de Dança\, promovendo nos seus alunos uma intensa ligação à atividade cénica através de apresentações públicas da escola e da Pequena Companhia/Little Company\, estrutura similar a uma Companhia de Dança profissional onde os alunos\, a partir do Grau Intermédio\, são integrados. \n
URL:https://www.forumluisatodi.pt/espetaculo/aula-publica-2/
CATEGORIES:Dança
ATTACH;FMTTYPE=image/jpeg:https://www.forumluisatodi.pt/wp-content/uploads/2022/04/AulaPublica-ADCS.jpg
END:VEVENT
END:VCALENDAR