BEGIN:VCALENDAR
VERSION:2.0
PRODID:-//Fórum Luísa Todi - ECPv4.6.9//NONSGML v1.0//EN
CALSCALE:GREGORIAN
METHOD:PUBLISH
X-WR-CALNAME:Fórum Luísa Todi
X-ORIGINAL-URL:https://www.forumluisatodi.pt
X-WR-CALDESC:Events for Fórum Luísa Todi
BEGIN:VEVENT
DTSTART;TZID=Europe/Lisbon:20211115T190000
DTEND;TZID=Europe/Lisbon:20211115T200000
DTSTAMP:20260419T160057
CREATED:20211011T164258Z
LAST-MODIFIED:20211115T095411Z
UID:71809-1637002800-1637006400@www.forumluisatodi.pt
SUMMARY:As Portas do Céu
DESCRIPTION:Em 1870\, James Averill\, oriundo de uma família abastada do Leste\, forma-se em Harvard na companhia do amigo Billy Irvine. Ambos sonham com dias futuros e frutuosos dedicados aos ideais da defesa e proteção dos pobres e dos explorados. \nVinte anos mais tarde\, Averill é um simples marshall no condado de Johnson\, no estado do Wyoming. Na cidade de Casper\, conhecido centro de criação de gado\, encontra o velho amigo Billy na Associação de Criadores de Gado. \nBilly é agora um homem infeliz\, amargurado e alcoolizado\, que se opõe ferozmente ao crescimento da população de emigrantes na região. \nOs emigrantes\, esfomeados\, roubam algumas cabeças de gado e morrem às mãos de Nate Champion\, o pistoleiro contratado pelos criadores de gado\, cujo presidente da associação se prepara para assassinar mais de uma centena deles com um exército de mercenários. \n“As Portas do Céu” é um fabuloso e grandioso fresco histórico construido a partir de um obscuro e verídico episódio\, um sanguinário e brutal confronto entre colonos europeus e criadores de gado no Wyoming nos finais do século XIX. \n
URL:https://www.forumluisatodi.pt/espetaculo/as-portas-do-ceu/
CATEGORIES:Cinema
ATTACH;FMTTYPE=image/jpeg:https://www.forumluisatodi.pt/wp-content/uploads/2021/10/HeavensGate.jpg
END:VEVENT
END:VCALENDAR