BEGIN:VCALENDAR
VERSION:2.0
PRODID:-//Fórum Luísa Todi - ECPv4.6.9//NONSGML v1.0//EN
CALSCALE:GREGORIAN
METHOD:PUBLISH
X-WR-CALNAME:Fórum Luísa Todi
X-ORIGINAL-URL:https://www.forumluisatodi.pt
X-WR-CALDESC:Events for Fórum Luísa Todi
BEGIN:VEVENT
DTSTART;TZID=Europe/Lisbon:20231021T160000
DTEND;TZID=Europe/Lisbon:20231021T170000
DTSTAMP:20260423T081624
CREATED:20230713T093255Z
LAST-MODIFIED:20230713T093255Z
UID:74138-1697904000-1697907600@www.forumluisatodi.pt
SUMMARY:As Aventuras Extraordinárias de Mr. West no País dos Bolcheviques
DESCRIPTION: \nLev Kulechov\, um dos realizadores soviéticos mais notáveis do período do cinema mudo\, delicia-nos com um bom exemplo de filme irónico de propaganda soviética\, o qual\, narra as aventuras de um americano\, o Sr. West e o seu fiel guarda-costas Cowboy\, enquanto visitam a terra dos horríveis e malvados bolcheviques. \nEsta foi a primeira longa-metragem que Lev Kuleshov realizou com uma equipa de atores que frequentaram o seu Laboratório Experimental. \nNa sua mais famosa experiência\, que ficou conhecida como Efeito Kuleshov\, filmou um famoso ator com uma expressão neutra. Depois colou o fotograma à imagem de um prato de sopa\, de uma rapariga num caixão e de uma mulher num sofá. As audiências ficaram maravilhadas com as mudanças subtis no rosto do ator\, à medida que reagia com diferentes emoções às diversas imagens. Na verdade\, a expressão nunca mudou\, tendo sido utilizado o mesmo fotograma do rosto do ator nas três imagens diferentes. \nMÚSICA \nNo âmbito desta sessão do Film Fest – Festival de Cinema Musicado ao Vivo\, a música e interpretação ao vivo é da Orquestra Metropolitana de Lisboa. \n
URL:https://www.forumluisatodi.pt/espetaculo/as-aventuras-extraordinarias-de-mr-west-no-pais-dos-bolcheviques/
CATEGORIES:Cinema,Música
ATTACH;FMTTYPE=image/jpeg:https://www.forumluisatodi.pt/wp-content/uploads/2023/07/MrWest-b.jpg
END:VEVENT
END:VCALENDAR