BEGIN:VCALENDAR
VERSION:2.0
PRODID:-//Fórum Luísa Todi - ECPv4.6.9//NONSGML v1.0//EN
CALSCALE:GREGORIAN
METHOD:PUBLISH
X-WR-CALNAME:Fórum Luísa Todi
X-ORIGINAL-URL:https://www.forumluisatodi.pt
X-WR-CALDESC:Events for Fórum Luísa Todi
BEGIN:VEVENT
DTSTART;TZID=Europe/Lisbon:20211016T213000
DTEND;TZID=Europe/Lisbon:20211016T213000
DTSTAMP:20260420T111619
CREATED:20210909T160218Z
LAST-MODIFIED:20210927T094606Z
UID:71674-1634419800-1634419800@www.forumluisatodi.pt
SUMMARY:António Calvário
DESCRIPTION:Com uma vida cheia de histórias e de canções que chegam agora ao palco\, António Calvário é um dos nomes maiores da música portuguesa. Festejando 60 anos da sua eleição como rei da rádio\, António Calvário apresenta-se em excelente forma. \n“Calvário\, Uma vida de canções” é um espetáculo inédito\, em jeito de reconhecimento pelo seu percurso de cantor; um espetáculo que aplaude de pé a cultura; um espetáculo sobre a vida\, os sonhos e as canções de António Calvário. \nPelo palco desfilam as mais emblemáticas canções e são desvendadas histórias nunca contadas de uma carreira intensa. \nUm luxuoso guarda-roupa\, criativa cenografia e atrativas projeções\, numa mistura de concerto e de teatro que resulta\, evidentemente\, num espetáculo interativo e cantado ao vivo. \nHá vidas que merecem ser recordadas e contadas! A de António Calvário merece ser cantada! \nCovid-19 | Plano de Contingência do Fórum Municipal Luísa Todi \n
URL:https://www.forumluisatodi.pt/espetaculo/antonio-calvario/
CATEGORIES:Música
ATTACH;FMTTYPE=image/jpeg:https://www.forumluisatodi.pt/wp-content/uploads/2021/09/AntonioCalvario.jpg
END:VEVENT
END:VCALENDAR