BEGIN:VCALENDAR
VERSION:2.0
PRODID:-//Fórum Luísa Todi - ECPv4.6.9//NONSGML v1.0//EN
CALSCALE:GREGORIAN
METHOD:PUBLISH
X-WR-CALNAME:Fórum Luísa Todi
X-ORIGINAL-URL:https://www.forumluisatodi.pt
X-WR-CALDESC:Events for Fórum Luísa Todi
BEGIN:VEVENT
DTSTART;TZID=Europe/Lisbon:20240603T210000
DTEND;TZID=Europe/Lisbon:20240603T230000
DTSTAMP:20260419T235727
CREATED:20240508T133451Z
LAST-MODIFIED:20240508T135038Z
UID:74882-1717448400-1717455600@www.forumluisatodi.pt
SUMMARY:Amityville\, a Mansão do Diabo
DESCRIPTION:Depois de se mudarem para uma casa onde aconteceram terríveis assassinatos de uma mesma família\, George\, Kathy e seus filhos passam a viver uma forte experiência sobrenatural. \nAs forças diabólicas que ali habitam perturbam a família e todos com quem se relacionam\, inclusive o padre Delaney. Ao 28° dia\, a família decide tomar uma atitude. \nO filme faz parte da masterclass de Lauro António “Cinema Americano\, anos 80”\, com mais de seis dezenas de filmes selecionados pelo antigo cineasta e crítico cinematográfico\, falecido em 2022. \n
URL:https://www.forumluisatodi.pt/espetaculo/amityville-a-mansao-do-diabo/
CATEGORIES:Cinema
ATTACH;FMTTYPE=image/jpeg:https://www.forumluisatodi.pt/wp-content/uploads/2024/05/Amityville.jpg
END:VEVENT
END:VCALENDAR