BEGIN:VCALENDAR
VERSION:2.0
PRODID:-//Fórum Luísa Todi - ECPv4.6.9//NONSGML v1.0//EN
CALSCALE:GREGORIAN
METHOD:PUBLISH
X-WR-CALNAME:Fórum Luísa Todi
X-ORIGINAL-URL:https://www.forumluisatodi.pt
X-WR-CALDESC:Events for Fórum Luísa Todi
BEGIN:VEVENT
DTSTART;TZID=Europe/Lisbon:20230901T213000
DTEND;TZID=Europe/Lisbon:20230901T223000
DTSTAMP:20260423T154622
CREATED:20230711T112257Z
LAST-MODIFIED:20230711T112257Z
UID:74099-1693603800-1693607400@www.forumluisatodi.pt
SUMMARY:Aline Frazão
DESCRIPTION:“Uma Música Angolana” nasce do palco e é para o palco que foi imaginado.  \nEste disco é o resultado de reencontros muito ansiados: o reencontro com a minha banda\, o reencontro com uma paleta afetiva de ritmos que vão desde a massemba angolana ao batuku cabo-verdiano\, passando pelo maracatu e o afoxé do Brasil\, o reencontro com a escrita de canções e com a busca incessante por uma voz que se expresse através das palavras\, do canto e também da direção musical como um todo. \nDe todos os meus álbuns\, este é talvez aquele em que mais me dediquei como produtora musical na fabricação de uma sonoridade de fronteiras perdidas\, mas\, ao mesmo tempo\, profundamente angolana. Reafirmar a minha paixão pelos ritmos de origem africana espalhados pelo mundo\, reinterpretando\, desconstruindo e inventando sem pudor\, é certamente uma das minhas motivações.  \n“Uma Música Angolana” sou eu. “Uma Música Angolana” é um universo sonoro possível de misturas e improvisações jazzísticas\, dançadas numa batida que vem de dentro do corpo\, de dentro do sentimento. Porque religar é preciso. \nAline Frazão \n \n
URL:https://www.forumluisatodi.pt/espetaculo/aline-frazao/
CATEGORIES:Música
ATTACH;FMTTYPE=image/jpeg:https://www.forumluisatodi.pt/wp-content/uploads/2023/07/AlineFrazao.jpg
END:VEVENT
END:VCALENDAR