BEGIN:VCALENDAR
VERSION:2.0
PRODID:-//Fórum Luísa Todi - ECPv4.6.9//NONSGML v1.0//EN
CALSCALE:GREGORIAN
METHOD:PUBLISH
X-WR-CALNAME:Fórum Luísa Todi
X-ORIGINAL-URL:https://www.forumluisatodi.pt
X-WR-CALDESC:Events for Fórum Luísa Todi
BEGIN:VEVENT
DTSTART;TZID=Europe/Lisbon:20240617T210000
DTEND;TZID=Europe/Lisbon:20240617T230000
DTSTAMP:20260419T223305
CREATED:20240508T134727Z
LAST-MODIFIED:20240508T135109Z
UID:74888-1718658000-1718665200@www.forumluisatodi.pt
SUMMARY:Alien - O 8.º Passageiro
DESCRIPTION:A tripulação da nave espacial comercial Nostromo encontra uma forma de vida mortal após investigar uma misteriosa transmissão de origem desconhecida num planeta distante. \nO clássico de terror/ficção científica “Alien\, o 8.º Passageiro”\, dirigido por Ridley Scott em 1979\, é o primeiro filme de uma das mais aclamadas sagas do cinema norte-americano. \nO filme faz parte da masterclass de Lauro António “Cinema Americano\, anos 80”\, com mais de seis dezenas de filmes selecionados pelo antigo cineasta e crítico cinematográfico\, falecido em 2022. \n
URL:https://www.forumluisatodi.pt/espetaculo/alien-o-8-o-passageiro/
CATEGORIES:Cinema
ATTACH;FMTTYPE=image/jpeg:https://www.forumluisatodi.pt/wp-content/uploads/2024/05/Alien.jpg
END:VEVENT
END:VCALENDAR