BEGIN:VCALENDAR
VERSION:2.0
PRODID:-//Fórum Luísa Todi - ECPv4.6.9//NONSGML v1.0//EN
CALSCALE:GREGORIAN
METHOD:PUBLISH
X-WR-CALNAME:Fórum Luísa Todi
X-ORIGINAL-URL:https://www.forumluisatodi.pt
X-WR-CALDESC:Events for Fórum Luísa Todi
BEGIN:VEVENT
DTSTART;TZID=Europe/Lisbon:20190413T213000
DTEND;TZID=Europe/Lisbon:20190413T213000
DTSTAMP:20260422T190752
CREATED:20190123T123349Z
LAST-MODIFIED:20190123T123407Z
UID:68466-1555191000-1555191000@www.forumluisatodi.pt
SUMMARY:Acordes 2019
DESCRIPTION:O Acordes 2019 – XVIII Festival de Tunas Femininas da ESE de Setúbal\, organizado pela Tuna Sadina\, é um evento de relevo para a cidade de Setúbal e a comunidade académica local\, uma vez que se trata do segundo certame sadino mais antigo e o único organizado por uma tuna feminina e dedicado também a este universo. \nEsta edição conta\, mais uma vez\, com a presença de quatro tunas femininas de diferentes cantos do país\, que trazem consigo os seus costumes e o espírito académico que as caracterizam. \n
URL:https://www.forumluisatodi.pt/espetaculo/acordes-2019/
CATEGORIES:Música
ATTACH;FMTTYPE=image/jpeg:https://www.forumluisatodi.pt/wp-content/uploads/2019/01/TunaSadina.jpg
END:VEVENT
END:VCALENDAR