BEGIN:VCALENDAR
VERSION:2.0
PRODID:-//Fórum Luísa Todi - ECPv4.6.9//NONSGML v1.0//EN
CALSCALE:GREGORIAN
METHOD:PUBLISH
X-WR-CALNAME:Fórum Luísa Todi
X-ORIGINAL-URL:https://www.forumluisatodi.pt
X-WR-CALDESC:Events for Fórum Luísa Todi
BEGIN:VEVENT
DTSTART;TZID=Europe/Lisbon:20190427T213000
DTEND;TZID=Europe/Lisbon:20190427T213000
DTSTAMP:20260422T121550
CREATED:20190123T143015Z
LAST-MODIFIED:20190306T123157Z
UID:68478-1556400600-1556400600@www.forumluisatodi.pt
SUMMARY:Academia de Dança Contemporânea de Setúbal | Pequena Companhia/Little Company
DESCRIPTION:O ensino na Academia tem como principais objetivos a educação pelo movimento\, que se desenvolve nas Classes de Iniciação\, e a formação de Bailarinos nos Cursos Básico e Secundário de Dança\, promovendo nos seus alunos uma intensa ligação à atividade cénica através de apresentações públicas da Escola e da Pequena Companhia/ Little Company\, estrutura similar a uma companhia de dança profissional. \nA Pequena Companhia/ Little Company\, constituída por alunos selecionados do curso de formação de bailarinos da Academia de Dança Contemporânea de Setúbal\, é a instituição de iniciação à atividade futura destes jovens. \n
URL:https://www.forumluisatodi.pt/espetaculo/academia-de-danca-contemporanea-de-setubal-pequena-companhia-little-company/2019-04-27/
CATEGORIES:Crianças,Dança
ATTACH;FMTTYPE=image/jpeg:https://www.forumluisatodi.pt/wp-content/uploads/2019/01/Academia_Dança_site.jpg
END:VEVENT
END:VCALENDAR