BEGIN:VCALENDAR
VERSION:2.0
PRODID:-//Fórum Luísa Todi - ECPv4.6.9//NONSGML v1.0//EN
CALSCALE:GREGORIAN
METHOD:PUBLISH
X-WR-CALNAME:Fórum Luísa Todi
X-ORIGINAL-URL:https://www.forumluisatodi.pt
X-WR-CALDESC:Events for Fórum Luísa Todi
BEGIN:VEVENT
DTSTART;TZID=Europe/Lisbon:20211206T190000
DTEND;TZID=Europe/Lisbon:20211206T200000
DTSTAMP:20260420T021447
CREATED:20211012T112050Z
LAST-MODIFIED:20211206T151828Z
UID:71866-1638817200-1638820800@www.forumluisatodi.pt
SUMMARY:A Última Sessão
DESCRIPTION:Dois adolescentes passam os dias a beber numa cidade do Texas no início da década de 1950\, época da Guerra da Coreia. \nComo diversão\, apenas têm uma sessão de cinema na única sala de exibição da cidade. \nO problema ocorre quando os dois se apaixonam pela mesma rapariga\, sofrendo a amizade um grande abalo. \nBrilhante estudo da vida numa pequena cidade do Texas durante a década de 1950 e como a vida dos personagens se entrelaça. \n
URL:https://www.forumluisatodi.pt/espetaculo/a-ultima-sessao/
CATEGORIES:Cinema
ATTACH;FMTTYPE=image/jpeg:https://www.forumluisatodi.pt/wp-content/uploads/2021/10/UltimaSessao.jpg
END:VEVENT
END:VCALENDAR