BEGIN:VCALENDAR
VERSION:2.0
PRODID:-//Fórum Luísa Todi - ECPv4.6.9//NONSGML v1.0//EN
CALSCALE:GREGORIAN
METHOD:PUBLISH
X-WR-CALNAME:Fórum Luísa Todi
X-ORIGINAL-URL:https://www.forumluisatodi.pt
X-WR-CALDESC:Events for Fórum Luísa Todi
BEGIN:VEVENT
DTSTART;TZID=Europe/Lisbon:20231002T210000
DTEND;TZID=Europe/Lisbon:20231002T223000
DTSTAMP:20260423T021510
CREATED:20230928T105328Z
LAST-MODIFIED:20230929T141519Z
UID:74163-1696280400-1696285800@www.forumluisatodi.pt
SUMMARY:A Severa
DESCRIPTION:Primeiro filme com som da cinematografia nacional realizado por um português – Leitão de Barros. \nEstrou-se no Teatro São Luiz\, em Lisboa\, a 18 de junho de 1931\, ficando mais de seis meses em cartaz\, recebendo mais de 200 mil espetadores. \nA história desenrola-se no século dezanove e narra as aventuras do jovem cavaleiro D. João\, Conde de Marialva\, cujo amor se divide entre a mítica e insinuante cigana Severa — que a lenda consagrou como fadista desditosa —\, e uma fidalga. \nO enredo\, ambientado nas lezírias e nas touradas\, baseia-se na obra de Júlio Dantas\, ressaltando os costumes populares e aspetos da sociedade de 1848. \n
URL:https://www.forumluisatodi.pt/espetaculo/a-severa/
CATEGORIES:Cinema
ATTACH;FMTTYPE=image/png:https://www.forumluisatodi.pt/wp-content/uploads/2023/09/A-Severa.png
END:VEVENT
END:VCALENDAR