BEGIN:VCALENDAR
VERSION:2.0
PRODID:-//Fórum Luísa Todi - ECPv4.6.9//NONSGML v1.0//EN
CALSCALE:GREGORIAN
METHOD:PUBLISH
X-WR-CALNAME:Fórum Luísa Todi
X-ORIGINAL-URL:https://www.forumluisatodi.pt
X-WR-CALDESC:Events for Fórum Luísa Todi
BEGIN:VEVENT
DTSTART;TZID=Europe/Lisbon:20231206T093000
DTEND;TZID=Europe/Lisbon:20231206T103000
DTSTAMP:20260423T182142
CREATED:20230929T160025Z
LAST-MODIFIED:20231019T083512Z
UID:74230-1701855000-1701858600@www.forumluisatodi.pt
SUMMARY:A Quinta da Amizade
DESCRIPTION:Um elefante procura abrigar-se da tempestade dentro de uma quinta onde já se abrigaram todos os outros animais. \nDiferente… o seu tamanho\, a sua cor e a sua tromba fazem com que não seja muito bem recebido entre os animais da quinta. \nA Quinta da Amizade é uma fábula sinfónica em que as personagens são animais representados por instrumentos da orquestra. A mensagem de solidariedade implícita nesta obra incide no direito à diferença.  \nCom música de Jorge Salgueiro e poema de João Aguiar\, a “Canção da Amizade” – canção final deste espetáculo – tornou-se um clássico\, sendo já das canções mais conhecidas no universo escolar. \n
URL:https://www.forumluisatodi.pt/espetaculo/a-quinta-da-amizade/2023-12-06/
CATEGORIES:Crianças
ATTACH;FMTTYPE=image/jpeg:https://www.forumluisatodi.pt/wp-content/uploads/2023/09/QuintaAmizade.jpg
END:VEVENT
END:VCALENDAR