BEGIN:VCALENDAR
VERSION:2.0
PRODID:-//Fórum Luísa Todi - ECPv4.6.9//NONSGML v1.0//EN
CALSCALE:GREGORIAN
METHOD:PUBLISH
X-WR-CALNAME:Fórum Luísa Todi
X-ORIGINAL-URL:https://www.forumluisatodi.pt
X-WR-CALDESC:Events for Fórum Luísa Todi
BEGIN:VEVENT
DTSTART;TZID=Europe/Lisbon:20190225T210000
DTEND;TZID=Europe/Lisbon:20190225T211000
DTSTAMP:20260423T090732
CREATED:20190114T123355Z
LAST-MODIFIED:20190114T123452Z
UID:68312-1551128400-1551129000@www.forumluisatodi.pt
SUMMARY:A QUADRILHA SELVAGEM
DESCRIPTION:Em plena revolução mexicana\, em 1913\, Pike Bishop (William Holden) é o líder de um bando de ladrões de bancos e comboios que tenta fazer um último assalto antes de se reformar. \nDeke Thornton (Robert Ryan)\, antigo companheiro de farras de Pike\, encontra-se preso e recebe uma oferta tentadora: a liberdade em troca da captura do bando. No entanto\, se falhar\, volta para a prisão. \n
URL:https://www.forumluisatodi.pt/espetaculo/a-quadrilha-selvagem/
CATEGORIES:Cinema
ATTACH;FMTTYPE=image/jpeg:https://www.forumluisatodi.pt/wp-content/uploads/2019/01/TheWildBunch_site.jpg
END:VEVENT
END:VCALENDAR