BEGIN:VCALENDAR
VERSION:2.0
PRODID:-//Fórum Luísa Todi - ECPv4.6.9//NONSGML v1.0//EN
CALSCALE:GREGORIAN
METHOD:PUBLISH
X-WR-CALNAME:Fórum Luísa Todi
X-ORIGINAL-URL:https://www.forumluisatodi.pt
X-WR-CALDESC:Events for Fórum Luísa Todi
BEGIN:VEVENT
DTSTART;TZID=Europe/Lisbon:20240510T210000
DTEND;TZID=Europe/Lisbon:20240510T223000
DTSTAMP:20260419T223618
CREATED:20240404T155739Z
LAST-MODIFIED:20240408T114958Z
UID:74794-1715374800-1715380200@www.forumluisatodi.pt
SUMMARY:A Pomba da Paz é cheia de Revoluções Futuras
DESCRIPTION:Concerto do 12.º Festival Internacional de Música de Setúbal pela Orquestra Criativa de Santa Maria da Feira\, com as participações da Cerci Feira | Cerci Lamas\, dos Ensembles de Percussão e de Saxofones do Conservatório Regional de Setúbal e do Coro Feminino TuttiEncantus. \n“Ecos de Liberdade” dá tema à edição 2024 do Festival Internacional de Música de Setúbal\, organizado pela A7M – Associação Festival de Música de Setúbal com a Câmara Municipal de Setúbal e o The Helen Hamlyn Trust. \n
URL:https://www.forumluisatodi.pt/espetaculo/a-pomba-da-paz-e-cheia-de-revolucoes-futuras/
CATEGORIES:Música
ATTACH;FMTTYPE=image/jpeg:https://www.forumluisatodi.pt/wp-content/uploads/2024/04/Orquestra_Criativa_Santa_Maria_da_Feira.jpeg
END:VEVENT
END:VCALENDAR