BEGIN:VCALENDAR
VERSION:2.0
PRODID:-//Fórum Luísa Todi - ECPv4.6.9//NONSGML v1.0//EN
CALSCALE:GREGORIAN
METHOD:PUBLISH
X-WR-CALNAME:Fórum Luísa Todi
X-ORIGINAL-URL:https://www.forumluisatodi.pt
X-WR-CALDESC:Events for Fórum Luísa Todi
BEGIN:VEVENT
DTSTART;TZID=Europe/Lisbon:20211021T213000
DTEND;TZID=Europe/Lisbon:20211021T213000
DTSTAMP:20260420T050142
CREATED:20210921T095628Z
LAST-MODIFIED:20210922T104441Z
UID:71714-1634851800-1634851800@www.forumluisatodi.pt
SUMMARY:A MAN THERE WAS
DESCRIPTION:A obra de Victor Sjöström\, de 1917\, é acompanhada de música ao vivo pelo Coro Setúbal Voz\, com direção de Jorge Salgueiro. \nEvento da secção “Grande Plano”\, da 3.ª edição do Film Fest – Festival de Cinema Musicado ao Vivo. \nSinopse de “A Man there Was” \nBaseado no poema épico de Henrik Ibsen\, publicado em 1857\, o que imediatamente nos apercebemos em “Terje Vigen” é do poder das suas imagens. Despojadas até à sua essência\, o filme é um elogio visual ao mar. \nNotavelmente fiel ao poema\, simplificado nalgumas partes e amplificado noutras\, consegue alcançar um equilíbrio emocionante entre narrativa elementar e cenas ousadas\, usando o poder da natureza para aumentar a intensidade do enredo. \nAo transformar o poema em imagens\, o filme alcançou grande prestígio na Suécia e no mundo. Não é à toa que foi creditado como o ponto de partida da Idade de Ouro do Cinema Escandinavo. \nCovid-19 | Plano de Contingência do Fórum Municipal Luísa Todi \n
URL:https://www.forumluisatodi.pt/espetaculo/a-man-there-was/
CATEGORIES:Música,Cinema
ATTACH;FMTTYPE=image/jpeg:https://www.forumluisatodi.pt/wp-content/uploads/2021/09/A-Man-there-Was-b.jpg
END:VEVENT
END:VCALENDAR