BEGIN:VCALENDAR
VERSION:2.0
PRODID:-//Fórum Luísa Todi - ECPv4.6.9//NONSGML v1.0//EN
CALSCALE:GREGORIAN
METHOD:PUBLISH
X-WR-CALNAME:Fórum Luísa Todi
X-ORIGINAL-URL:https://www.forumluisatodi.pt
X-WR-CALDESC:Events for Fórum Luísa Todi
BEGIN:VEVENT
DTSTART;TZID=Europe/Lisbon:20210419T190000
DTEND;TZID=Europe/Lisbon:20210419T210000
DTSTAMP:20260422T181322
CREATED:20201215T151817Z
LAST-MODIFIED:20210414T181746Z
UID:70514-1618858800-1618866000@www.forumluisatodi.pt
SUMMARY:A JANELA INDISCRETA
DESCRIPTION:Mestre do suspense\, Alfred Hitchcock conta\, naquele que é considerado um dos seus maiores êxitos\, a história de L. B. Jefferies\, repórter fotográfico que recupera de uma perna partida e que se entretém a seguir\, a partir da janela das traseiras do seu apartamento em Nova Iorque\, o quotidiano privado dos vizinhos. \nDo casal que dorme na varanda à solteira solitária que passa o tempo em frente ao espelho do toucador a aprontar-se para jantar sozinha\, são várias as cenas que Jefferies\, desempenhado por James Stewart\, partilha com o espetador. \nMas tudo muda quando uma das suas vizinhas\, uma mulher inválida chamada Emma Thorwald\, desaparece do campo de visão do curioso repórter. \nDeterminado em investigar o misterioso desaparecimento\, Jefferies inicia uma perseguição ao homem que julga ser responsável pelo crime\, o caixeiro-viajante Lars Thorwald\, marido de Emma. \nLisa\, a namorada de “Jeff”\, interpretada por Grace Kelly\, e a enfermeira Stella (Thelma Ritter) acompanham-no na investigação. \n  \nPlano de Contingência do Fórum Municipal Luísa Todi Covid-19 \n
URL:https://www.forumluisatodi.pt/espetaculo/a-janela-indiscreta/
CATEGORIES:Cinema
ATTACH;FMTTYPE=image/jpeg:https://www.forumluisatodi.pt/wp-content/uploads/2020/10/a-janela-indiscreta.jpg
END:VEVENT
END:VCALENDAR