BEGIN:VCALENDAR
VERSION:2.0
PRODID:-//Fórum Luísa Todi - ECPv4.6.9//NONSGML v1.0//EN
CALSCALE:GREGORIAN
METHOD:PUBLISH
X-WR-CALNAME:Fórum Luísa Todi
X-ORIGINAL-URL:https://www.forumluisatodi.pt
X-WR-CALDESC:Events for Fórum Luísa Todi
BEGIN:VEVENT
DTSTART;TZID=Europe/Lisbon:20240930T210000
DTEND;TZID=Europe/Lisbon:20240930T230000
DTSTAMP:20260420T001021
CREATED:20240821T142450Z
LAST-MODIFIED:20240925T145954Z
UID:75102-1727730000-1727737200@www.forumluisatodi.pt
SUMMARY:A Felina
DESCRIPTION:Baseado no clássico filme de 1942\, dois irmãos (Nastassja Kinski e Malcolm McDowell)\, com uma relação íntima conturbada\, descobrem que através do sexo são capazes de se metamorfosearem em panteras negras. \nEles são descendentes de uma estranha linhagem de homens-felinos que só podem amar e reproduzir-se entre si. \nO filme faz parte da masterclass de Lauro António “Cinema Americano\, anos 80”\, com mais de seis dezenas de filmes selecionados pelo antigo cineasta e crítico cinematográfico\, falecido em 2022. \n
URL:https://www.forumluisatodi.pt/espetaculo/a-felina/
CATEGORIES:Cinema
ATTACH;FMTTYPE=image/png:https://www.forumluisatodi.pt/wp-content/uploads/2024/08/Felina.png
END:VEVENT
END:VCALENDAR