BEGIN:VCALENDAR
VERSION:2.0
PRODID:-//Fórum Luísa Todi - ECPv4.6.9//NONSGML v1.0//EN
CALSCALE:GREGORIAN
METHOD:PUBLISH
X-WR-CALNAME:Fórum Luísa Todi
X-ORIGINAL-URL:https://www.forumluisatodi.pt
X-WR-CALDESC:Events for Fórum Luísa Todi
BEGIN:VEVENT
DTSTART;TZID=Europe/Lisbon:20220218T210000
DTEND;TZID=Europe/Lisbon:20220218T210000
DTSTAMP:20260423T060623
CREATED:20220121T163442Z
LAST-MODIFIED:20220128T103730Z
UID:72229-1645218000-1645218000@www.forumluisatodi.pt
SUMMARY:A Feiticeira de Oz
DESCRIPTION:A GATEM apresenta um musical cheio de aventuras sobre o poder da amizade\, adaptado por Céu Campos a partir do clássico de L. Frank Baum. \nEste espetáculo marca a abertura oficial do XII Fórum Permanente de Teatro. \nEvento da 3.ª edição do Bambolinices – Bienal de Teatro e Artes Performativas para Toda a Família. \n
URL:https://www.forumluisatodi.pt/espetaculo/a-feiticeira-de-oz-2/
CATEGORIES:Outros,Teatro
ATTACH;FMTTYPE=image/jpeg:https://www.forumluisatodi.pt/wp-content/uploads/2022/01/FeiticeiraOz.jpg
END:VEVENT
END:VCALENDAR