BEGIN:VCALENDAR
VERSION:2.0
PRODID:-//Fórum Luísa Todi - ECPv4.6.9//NONSGML v1.0//EN
CALSCALE:GREGORIAN
METHOD:PUBLISH
X-WR-CALNAME:Fórum Luísa Todi
X-ORIGINAL-URL:https://www.forumluisatodi.pt
X-WR-CALDESC:Events for Fórum Luísa Todi
BEGIN:VEVENT
DTSTART;TZID=Europe/Lisbon:20240325T210000
DTEND;TZID=Europe/Lisbon:20240325T220000
DTSTAMP:20260419T223140
CREATED:20231211T120559Z
LAST-MODIFIED:20240319T115802Z
UID:74477-1711400400-1711404000@www.forumluisatodi.pt
SUMMARY:A Costa dos Murmúrios
DESCRIPTION:No final dos anos 60\, Evita (Beatriz Batarda) chega a Moçambique para casar com Luís\, um estudante de matemática que ali cumpre o serviço militar. \nEvita rapidamente se apercebe de que Luís já não é o mesmo e\, perturbado pela guerra\, se transformou num triste imitador do seu capitão\, Forza Leal. \nQuando os homens partem para uma grande operação militar no norte\, Evita fica sozinha e\, no desespero de tentar compreender o que modificou Luís\, procura a companhia de Helena\, a mulher de Forza Leal. \nSubmissa e humilhada\, Helena é prisioneira na sua casa\, onde cumpre uma promessa. É ela quem revela a Evita o lado negro de Luís. \nPerdida num mundo que não é o seu\, Evita apercebe-se da violência de um tempo colonial à beira do fim. \n“A Costa dos Murmúrios”\, realizado por Margarida Cardoso\, é uma adaptação do romance homónimo de Lídia Jorge\, a sua obra mais célebre\, que aborda um momento ainda doloroso e com muitas feridas abertas da história de Portugal. \n
URL:https://www.forumluisatodi.pt/espetaculo/a-costa-dos-murmurios/
CATEGORIES:Cinema
ATTACH;FMTTYPE=image/jpeg:https://www.forumluisatodi.pt/wp-content/uploads/2023/12/CostaMurmurios.jpg
END:VEVENT
END:VCALENDAR