BEGIN:VCALENDAR
VERSION:2.0
PRODID:-//Fórum Luísa Todi - ECPv4.6.9//NONSGML v1.0//EN
CALSCALE:GREGORIAN
METHOD:PUBLISH
X-WR-CALNAME:Fórum Luísa Todi
X-ORIGINAL-URL:https://www.forumluisatodi.pt
X-WR-CALDESC:Events for Fórum Luísa Todi
BEGIN:VEVENT
DTSTART;TZID=Europe/Lisbon:20231201T210000
DTEND;TZID=Europe/Lisbon:20231202T223000
DTSTAMP:20260423T164419
CREATED:20230929T133549Z
LAST-MODIFIED:20231127T092719Z
UID:74220-1701464400-1701556200@www.forumluisatodi.pt
SUMMARY:1911\, A Conspiração da Igualdade
DESCRIPTION:“1911\, A Conspiração da Igualdade” é a segunda ópera de uma tetralogia sobre constituições portuguesas e tem música de António Vitorino d’Almeida. \nO libreto\, de Francisco Teixeira\, é sobre a luta pelo voto feminino no contexto da Implantação da República e do surgimento da Constituição de 1911. \nA interpretação está a cargo da Companhia de Ópera de Setúbal\, do Coro Setúbal Voz e de uma orquestra com direção artística de Jorge Salgueiro\, visualidade de Patrícia Raposo e Maria Madalena e corporalidade de Iolanda Rodrigues. \n
URL:https://www.forumluisatodi.pt/espetaculo/a-conspiracao-da-igualdade-e-a-constituicao-de-1911/2023-12-01/
CATEGORIES:Teatro,Música
ATTACH;FMTTYPE=image/jpeg:https://www.forumluisatodi.pt/wp-content/uploads/2023/09/1911ConspiracaoIgualdade.jpg
END:VEVENT
END:VCALENDAR