BEGIN:VCALENDAR
VERSION:2.0
PRODID:-//Fórum Luísa Todi - ECPv4.6.9//NONSGML v1.0//EN
CALSCALE:GREGORIAN
METHOD:PUBLISH
X-WR-CALNAME:Fórum Luísa Todi
X-ORIGINAL-URL:https://www.forumluisatodi.pt
X-WR-CALDESC:Events for Fórum Luísa Todi
BEGIN:VEVENT
DTSTART;TZID=Europe/Lisbon:20250421T210000
DTEND;TZID=Europe/Lisbon:20250421T223000
DTSTAMP:20260422T124220
CREATED:20250407T112613Z
LAST-MODIFIED:20250411T093922Z
UID:77850-1745269200-1745274600@www.forumluisatodi.pt
SUMMARY:A Chorus Line
DESCRIPTION:Zach\, um diretor de musicais da Broadway\, prepara um novo espetáculo e\, para isso\, realiza uma série de audições para escolher os atores\, cantores e bailarinos que farão parte do elenco. \nEnérgico e exigente\, o diretor exige dos candidatos prova absoluta de seu talento e interesse pela arte\, fazendo com que isso valorize ainda mais seu espetáculo. \nTudo começa a tomar um rumo diferente quando a vida pessoal de cada um dos participantes da seleção vem à tona\, inclusivamente a do próprio diretor\, quando uma ex-namorada sua é selecionada. \nAgora ele enfrenta um dilema: paixão ou profissão? \nO filme faz parte da masterclass de Lauro António “Cinema Americano\, anos 80”\, com mais de seis dezenas de filmes selecionados pelo antigo cineasta e crítico cinematográfico\, falecido em 2022. \n
URL:https://www.forumluisatodi.pt/espetaculo/a-chorus-line/
CATEGORIES:Cinema
ATTACH;FMTTYPE=image/jpeg:https://www.forumluisatodi.pt/wp-content/uploads/2025/04/ChorusLine.jpg
END:VEVENT
END:VCALENDAR