BEGIN:VCALENDAR
VERSION:2.0
PRODID:-//Fórum Luísa Todi - ECPv4.6.9//NONSGML v1.0//EN
CALSCALE:GREGORIAN
METHOD:PUBLISH
X-WR-CALNAME:Fórum Luísa Todi
X-ORIGINAL-URL:https://www.forumluisatodi.pt
X-WR-CALDESC:Events for Fórum Luísa Todi
BEGIN:VEVENT
DTSTART;TZID=Europe/Lisbon:20240908T110000
DTEND;TZID=Europe/Lisbon:20240908T120000
DTSTAMP:20260420T001110
CREATED:20240821T134945Z
LAST-MODIFIED:20240821T142711Z
UID:75096-1725793200-1725796800@www.forumluisatodi.pt
SUMMARY:A Casinha de Chocolate
DESCRIPTION:“Ópera para Bebés” é uma atividade que repete ao longo do ano de 2024. \nEm cada concerto é apresentada uma ópera diferente para os bebés descobrirem e os pais recordarem ou conhecerem\, como “A Casinha de Chocolate”\, de Humperdinck\, “A Flauta Mágica”\, de Mozart\, ou “Animais\, Bichos e Criaturas”\, de Jorge Salgueiro. \nNesta atividade\, a orientadora Sandra Oliveira e a soprano Helena de Castro proporcionam às crianças\, até aos 4 anos\, experiências musicais através de canções\, árias\, ritmos e jogos. \nOs excertos serão interpretados por uma voz lírica e uma voz não lírica\, percussões e flauta. Ou seja\, a criança é exposta a diferentes contextos sonoros e colocações vocais\, associados ao movimento e interação com o adulto e outros bebés/crianças. \n
URL:https://www.forumluisatodi.pt/espetaculo/a-casinha-de-chocolate/
CATEGORIES:Crianças
ATTACH;FMTTYPE=image/jpeg:https://www.forumluisatodi.pt/wp-content/uploads/2024/08/OperaBebes.jpg
END:VEVENT
END:VCALENDAR