BEGIN:VCALENDAR
VERSION:2.0
PRODID:-//Fórum Luísa Todi - ECPv4.6.9//NONSGML v1.0//EN
CALSCALE:GREGORIAN
METHOD:PUBLISH
X-WR-CALNAME:Fórum Luísa Todi
X-ORIGINAL-URL:https://www.forumluisatodi.pt
X-WR-CALDESC:Events for Fórum Luísa Todi
BEGIN:VEVENT
DTSTART;TZID=Europe/Lisbon:20240714T170000
DTEND;TZID=Europe/Lisbon:20240714T190000
DTSTAMP:20260420T033431
CREATED:20240411T090338Z
LAST-MODIFIED:20240411T090338Z
UID:74849-1720976400-1720983600@www.forumluisatodi.pt
SUMMARY:A Casa de Bernarda Alba
DESCRIPTION:A Casa de Bernarda Alba conta a história de uma mãe dominadora que controla com mão de ferro as suas cinco filhas solteiras. \nConsiderada uma das melhores obras de Lorca\, este drama mostra-nos como um poder autoritário\, intolerante\, repressor da liberdade sexual das mulheres e que esmaga o outro na sua individualidade e diferença\, gera inevitavelmente a revolta e a luta pela liberdade. \nCom a morte do segundo marido\, Bernarda decreta o luto de oito anos e submete as suas filhas à reclusão\, dentro das frias paredes da casa\, com as janelas fechadas. \nDuas filhas\, porém\, apaixonadas pelo mesmo galanteador das redondezas\, desencadeiam uma disputa cruel e perigosa para conquistarem o amor desse homem\, com consequências trágicas. \nA Casa de Bernarda Alba é um apelo contra o isolamento que aumenta no mundo. Um grito de resistência e liberdade. \n
URL:https://www.forumluisatodi.pt/espetaculo/a-casa-de-bernarda-alba/2024-07-14/
CATEGORIES:Teatro
ATTACH;FMTTYPE=image/jpeg:https://www.forumluisatodi.pt/wp-content/uploads/2023/07/BernardaAlba.jpg
END:VEVENT
END:VCALENDAR