BEGIN:VCALENDAR
VERSION:2.0
PRODID:-//Fórum Luísa Todi - ECPv4.6.9//NONSGML v1.0//EN
CALSCALE:GREGORIAN
METHOD:PUBLISH
X-WR-CALNAME:Fórum Luísa Todi
X-ORIGINAL-URL:https://www.forumluisatodi.pt
X-WR-CALDESC:Events for Fórum Luísa Todi
BEGIN:VEVENT
DTSTART;TZID=Europe/Lisbon:20231009T210000
DTEND;TZID=Europe/Lisbon:20231009T220000
DTSTAMP:20260423T034516
CREATED:20230928T114646Z
LAST-MODIFIED:20231002T091706Z
UID:74169-1696885200-1696888800@www.forumluisatodi.pt
SUMMARY:A Canção de Lisboa
DESCRIPTION:Foi a segunda longa metragem sonora portuguesa e a primeira totalmente produzida em Portugal\, nos laboratórios da Lisboa Filme e com equipamento Tobis. \nEstreou-se no Teatro São Luiz\, Lisboa\, a 7 de novembro de 1933\, sendo a primeira de uma longa série de comédias populares genericamente designadas por comédia à portuguesa. \nEm “A Canção de Lisboa”\, Vasco é um estudante de medicina que vive da mesada das tias transmontanas\, convencidas de que ele é um médico com consultório montado. \nTudo mentira: ele chumbou nos exames por dar mais atenção ao fado e aos namoros. Agora\, as tias vêm visitá-lo. \n
URL:https://www.forumluisatodi.pt/espetaculo/a-cancao-de-lisboa/
CATEGORIES:Cinema
ATTACH;FMTTYPE=image/jpeg:https://www.forumluisatodi.pt/wp-content/uploads/2023/09/A-Canção-de-Lisboa.jpg
END:VEVENT
END:VCALENDAR