BEGIN:VCALENDAR
VERSION:2.0
PRODID:-//Fórum Luísa Todi - ECPv4.6.9//NONSGML v1.0//EN
CALSCALE:GREGORIAN
METHOD:PUBLISH
X-WR-CALNAME:Fórum Luísa Todi
X-ORIGINAL-URL:https://www.forumluisatodi.pt
X-WR-CALDESC:Events for Fórum Luísa Todi
BEGIN:VEVENT
DTSTART;TZID=Europe/Lisbon:20240311T210000
DTEND;TZID=Europe/Lisbon:20240311T223000
DTSTAMP:20260420T000815
CREATED:20231211T113905Z
LAST-MODIFIED:20240306T155446Z
UID:74465-1710190800-1710196200@www.forumluisatodi.pt
SUMMARY:A Caixa
DESCRIPTION:A ação de “A Caixa”\, do consagrado cineasta Manoel de Oliveira\, passa-se no bairro da Mouraria\, em Lisboa. \nTudo está centrado na caixa de esmolas de um cego\, através da qual sobrevivem o próprio homem\, a sua filha e o genro\, um marginal desempregado\, tal como os seus amigos. \nUm dia a caixa é roubada. A situação provoca um conflito no bairro que termina em tragédia\, a qual\, por ironia do destino\, acaba por libertar a filha da carga familiar. \n“A Caixa” é uma adaptação da peça homónima de Prista Monteiro. \n
URL:https://www.forumluisatodi.pt/espetaculo/a-caixa/
CATEGORIES:Cinema
ATTACH;FMTTYPE=image/png:https://www.forumluisatodi.pt/wp-content/uploads/2023/12/Caixa.png
END:VEVENT
END:VCALENDAR