BEGIN:VCALENDAR
VERSION:2.0
PRODID:-//Fórum Luísa Todi - ECPv4.6.9//NONSGML v1.0//EN
CALSCALE:GREGORIAN
METHOD:PUBLISH
X-WR-CALNAME:Fórum Luísa Todi
X-ORIGINAL-URL:https://www.forumluisatodi.pt
X-WR-CALDESC:Events for Fórum Luísa Todi
BEGIN:VEVENT
DTSTART;TZID=Europe/Lisbon:20241011T210000
DTEND;TZID=Europe/Lisbon:20241011T223000
DTSTAMP:20260420T001028
CREATED:20240920T113001Z
LAST-MODIFIED:20241007T153929Z
UID:76905-1728680400-1728685800@www.forumluisatodi.pt
SUMMARY:A Banda do Meio
DESCRIPTION:A Banda do Meio conta a história de duas bandas filarmónicas centenárias — a de cima e a de baixo — rivais que não se podem ver e que\, de certa forma\, foram “empurradas” pelo poder político a formarem uma nova coletividade: a coletividade do meio. \nPara a inauguração dessa nova e unida coletividade\, as duas bandas irão tentar mostrar um ensaio do que será um futuro concerto de celebração do 25 de Abril. \nPelo meio\, inúmeras peripécias vão acontecendo\, desde o furto de instrumentos\, até a situações menos dignas que a leitura revelará.  \n  \n
URL:https://www.forumluisatodi.pt/espetaculo/a-banda-do-meio/
CATEGORIES:Teatro
ATTACH;FMTTYPE=image/jpeg:https://www.forumluisatodi.pt/wp-content/uploads/2024/09/BandaMeio.jpg
END:VEVENT
END:VCALENDAR