BEGIN:VCALENDAR
VERSION:2.0
PRODID:-//Fórum Luísa Todi - ECPv4.6.9//NONSGML v1.0//EN
CALSCALE:GREGORIAN
METHOD:PUBLISH
X-WR-CALNAME:Fórum Luísa Todi
X-ORIGINAL-URL:https://www.forumluisatodi.pt
X-WR-CALDESC:Events for Fórum Luísa Todi
BEGIN:VEVENT
DTSTART;TZID=Europe/Lisbon:20220214T210000
DTEND;TZID=Europe/Lisbon:20220214T233000
DTSTAMP:20260420T035413
CREATED:20211126T115200Z
LAST-MODIFIED:20220211T161855Z
UID:72067-1644872400-1644881400@www.forumluisatodi.pt
SUMMARY:A Árvore dos Tamancos
DESCRIPTION:“A Árvore dos Tamancos”\, filme de Ermanno Olmi premiado com a Palma de Ouro no Festival de Cinema de Cannes\, trouxe a consagração do realizador italiano. \nÉ um filme quase documental\, onde são recuperadas características do neorrealismo\, como a utilização de atores amadores\, para uma exploração crua mas intensamente poética da realidade. \nO filme conta a vida de quatro famílias italianas de camponeses no final do século XIX. Vêm da Lombardia\, trabalham numa exploração agrícola na região de Bergamo e vivem uma vida comunitária. Todos ajudam sempre que surgem dificuldades como aconteceu no caso de Gopa\, um vagabundo que acolheram\, ou no nascimento do bebé de Batisti. \nUm dia\, Batisti abate um olmo para fazer uns tamancos para o filho e fica mal visto na comunidade que o acolhia. \n
URL:https://www.forumluisatodi.pt/espetaculo/a-arvore-dos-tamancos/
CATEGORIES:Cinema
ATTACH;FMTTYPE=image/jpeg:https://www.forumluisatodi.pt/wp-content/uploads/2021/11/A_Arvore_dos_Tamancos.jpg
END:VEVENT
END:VCALENDAR