BEGIN:VCALENDAR
VERSION:2.0
PRODID:-//Fórum Luísa Todi - ECPv4.6.9//NONSGML v1.0//EN
CALSCALE:GREGORIAN
METHOD:PUBLISH
X-WR-CALNAME:Fórum Luísa Todi
X-ORIGINAL-URL:https://www.forumluisatodi.pt
X-WR-CALDESC:Events for Fórum Luísa Todi
BEGIN:VEVENT
DTSTART;TZID=Europe/Lisbon:20190124T210000
DTEND;TZID=Europe/Lisbon:20190124T211000
DTSTAMP:20260425T171544
CREATED:20181220T115623Z
LAST-MODIFIED:20181220T115623Z
UID:68046-1548363600-1548364200@www.forumluisatodi.pt
SUMMARY:3.ª GALA DO DESPORTO DE SETÚBAL
DESCRIPTION:Personalidades ligadas ao desporto e clubes do concelho que se destacaram ao longo da época ou da carreira são distinguidas na 3.ª Gala do Desporto de Setúbal\, organizada pela Câmara Municipal. \nO evento distingue “associação/clube desportivo”\, “equipa”\, “dirigente”\, “treinador”\, “evento desportivo”\, “melhor artigo desportivo do ano” e “carreira”. \nSão ainda entregues os prémios “atleta”\, “atleta esperança” e “atleta de desporto adaptado”\, em masculinos e femininos\, relativos à época de 2017-2018. \nDurante a gala\, que inclui apontamentos musicais\, o município atribui ainda o prémio “mérito académico” aos estudantes finalistas da licenciatura em Desporto da Escola Superior de Educação do Instituto Politécnico de Setúbal que alcançaram os melhores resultados no ano letivo 2017-2018. \n
URL:https://www.forumluisatodi.pt/espetaculo/3-a-gala-do-desporto-de-setubal/
CATEGORIES:Outros
ATTACH;FMTTYPE=image/jpeg:https://www.forumluisatodi.pt/wp-content/uploads/2018/12/2a_Gala_Desporto_Setúbal_site.jpg
END:VEVENT
END:VCALENDAR