BEGIN:VCALENDAR
VERSION:2.0
PRODID:-//Fórum Luísa Todi - ECPv4.6.9//NONSGML v1.0//EN
CALSCALE:GREGORIAN
METHOD:PUBLISH
X-WR-CALNAME:Fórum Luísa Todi
X-ORIGINAL-URL:https://www.forumluisatodi.pt
X-WR-CALDESC:Events for Fórum Luísa Todi
BEGIN:VEVENT
DTSTART;TZID=Europe/Lisbon:20240828T220000
DTEND;TZID=Europe/Lisbon:20240828T233000
DTSTAMP:20260420T000752
CREATED:20240814T145459Z
LAST-MODIFIED:20240814T145459Z
UID:75063-1724882400-1724887800@www.forumluisatodi.pt
SUMMARY:2+2=5
DESCRIPTION:2+2=4 deveria ser a pedra angular da lógica\, porém\, no labirinto distópico de “1984”\, de George Orwell\, surge um fenómeno matemático: 2+2=5. \nÉ a partir deste universo\, desta equação de arquitetura sinuosa\, que emerge um cenário temporal distorcido\, onde a realidade se curva diante do absoluto domínio da Grande Máquina. \nConservando a fórmula 2+2=5 como sustento da frase: “se é falso\, também pode ser verídico”\, a humanidade é forçada a engolir esta absurda equação como se fosse o mais límpido e incontestável facto. \nA narrativa desenrola-se entre polos de resistência e submissão e é neste turbilhão de verdades e mentiras que as personagens coabitam presas ao futuro\, antevendo a morte tão certa como o 3 antecede a 5. \n
URL:https://www.forumluisatodi.pt/espetaculo/225/
CATEGORIES:Teatro
ATTACH;FMTTYPE=image/png:https://www.forumluisatodi.pt/wp-content/uploads/2024/08/225.png
END:VEVENT
END:VCALENDAR